BEGIN:VCALENDAR
VERSION:2.0
PRODID:-//Texas Grandparents Raising Grandchildren - ECPv6.15.12.2//NONSGML v1.0//EN
CALSCALE:GREGORIAN
METHOD:PUBLISH
X-WR-CALNAME:Texas Grandparents Raising Grandchildren
X-ORIGINAL-URL:https://www.txgrg.com
X-WR-CALDESC:Events for Texas Grandparents Raising Grandchildren
REFRESH-INTERVAL;VALUE=DURATION:PT1H
X-Robots-Tag:noindex
X-PUBLISHED-TTL:PT1H
BEGIN:VTIMEZONE
TZID:America/Chicago
BEGIN:DAYLIGHT
TZOFFSETFROM:-0600
TZOFFSETTO:-0500
TZNAME:CDT
DTSTART:20250309T080000
END:DAYLIGHT
BEGIN:STANDARD
TZOFFSETFROM:-0500
TZOFFSETTO:-0600
TZNAME:CST
DTSTART:20251102T070000
END:STANDARD
BEGIN:DAYLIGHT
TZOFFSETFROM:-0600
TZOFFSETTO:-0500
TZNAME:CDT
DTSTART:20260308T080000
END:DAYLIGHT
BEGIN:STANDARD
TZOFFSETFROM:-0500
TZOFFSETTO:-0600
TZNAME:CST
DTSTART:20261101T070000
END:STANDARD
BEGIN:DAYLIGHT
TZOFFSETFROM:-0600
TZOFFSETTO:-0500
TZNAME:CDT
DTSTART:20270314T080000
END:DAYLIGHT
BEGIN:STANDARD
TZOFFSETFROM:-0500
TZOFFSETTO:-0600
TZNAME:CST
DTSTART:20271107T070000
END:STANDARD
END:VTIMEZONE
BEGIN:VEVENT
DTSTART;TZID=America/Chicago:20260421T113000
DTEND;TZID=America/Chicago:20260421T130000
DTSTAMP:20260421T022458
CREATED:20260413T022053Z
LAST-MODIFIED:20260413T022421Z
UID:10000802-1776771000-1776776400@www.txgrg.com
SUMMARY:Finding Your Voice: Advocacy & Legislative Education Series
DESCRIPTION:This 8-week training equips kinship caregivers with the knowledge and skills to advocate for children and families across Texas. Learn how laws and policies are created\, how they impact kinship families\, and how to effectively engage with decision-makers. \n\n\n\nParticipants will build confidence in sharing their stories\, navigating systems like education and healthcare\, and taking action at the local and state levels. \n\n\n\nWe thank Every Texan for their support in making this series possible. \n\n\n\nDates: Tuesdays\, April 14 – June 2\, 2026Time: 11:30 AM
URL:https://www.txgrg.com/event/finding-your-voice-advocacy-legislative-education-series/2026-04-21/
CATEGORIES:Events
ATTACH;FMTTYPE=image/jpeg:https://txgrg.s3.amazonaws.com/wp-content/uploads/20240926120215/IMG_9843-scaled.jpeg
END:VEVENT
BEGIN:VEVENT
DTSTART;TZID=America/Chicago:20260421T180000
DTEND;TZID=America/Chicago:20260421T193000
DTSTAMP:20260421T022458
CREATED:20250508T150311Z
LAST-MODIFIED:20250901T181609Z
UID:10000439-1776794400-1776799800@www.txgrg.com
SUMMARY:Seguin Support Group
DESCRIPTION:TXGRG is dedicated to empowering grandparents through support\, resources\, and community. We believe in the strength that comes from shared experiences and the wisdom that each grandparent holds. Our mission is to create a nurturing and supportive environment where you can thrive.
URL:https://www.txgrg.com/event/seguin-support-group/2026-04-21/
LOCATION:Seguin Public Library\, 313 W Nolte St\, Seguin\, TX\, 78155\, United States
CATEGORIES:Seguin Area
END:VEVENT
END:VCALENDAR