BEGIN:VCALENDAR
VERSION:2.0
PRODID:-//Texas Grandparents Raising Grandchildren - ECPv6.15.12.2//NONSGML v1.0//EN
CALSCALE:GREGORIAN
METHOD:PUBLISH
X-WR-CALNAME:Texas Grandparents Raising Grandchildren
X-ORIGINAL-URL:https://www.txgrg.com
X-WR-CALDESC:Events for Texas Grandparents Raising Grandchildren
REFRESH-INTERVAL;VALUE=DURATION:PT1H
X-Robots-Tag:noindex
X-PUBLISHED-TTL:PT1H
BEGIN:VTIMEZONE
TZID:America/Chicago
BEGIN:DAYLIGHT
TZOFFSETFROM:-0600
TZOFFSETTO:-0500
TZNAME:CDT
DTSTART:20250309T080000
END:DAYLIGHT
BEGIN:STANDARD
TZOFFSETFROM:-0500
TZOFFSETTO:-0600
TZNAME:CST
DTSTART:20251102T070000
END:STANDARD
BEGIN:DAYLIGHT
TZOFFSETFROM:-0600
TZOFFSETTO:-0500
TZNAME:CDT
DTSTART:20260308T080000
END:DAYLIGHT
BEGIN:STANDARD
TZOFFSETFROM:-0500
TZOFFSETTO:-0600
TZNAME:CST
DTSTART:20261101T070000
END:STANDARD
BEGIN:DAYLIGHT
TZOFFSETFROM:-0600
TZOFFSETTO:-0500
TZNAME:CDT
DTSTART:20270314T080000
END:DAYLIGHT
BEGIN:STANDARD
TZOFFSETFROM:-0500
TZOFFSETTO:-0600
TZNAME:CST
DTSTART:20271107T070000
END:STANDARD
END:VTIMEZONE
BEGIN:VEVENT
DTSTART;TZID=America/Chicago:20260202T093000
DTEND;TZID=America/Chicago:20260202T110000
DTSTAMP:20260421T103901
CREATED:20250901T185819Z
LAST-MODIFIED:20251002T155750Z
UID:10000696-1770024600-1770030000@www.txgrg.com
SUMMARY:Arnold Elementary Support Group
DESCRIPTION:467 Freiling\, San Antonio\, TX 78213 \n\n\n\nTXGRG is dedicated to empowering grandparents through support\, resources\, and community. We believe in the strength that comes from shared experiences and the wisdom that each grandparent holds. Our mission is to create a nurturing and supportive environment where you can thrive. \n\n\n\nEmail Lupe Morin for additional information.
URL:https://www.txgrg.com/event/arnold-elementary-support-group-3/2026-02-02/
LOCATION:Arnold Elementary Support Group\, 467 Freiling\, San Antonio\, TX\, 78213\, United States
CATEGORIES:Arnold Elementary,Support Groups
END:VEVENT
BEGIN:VEVENT
DTSTART;TZID=America/Chicago:20260128T100000
DTEND;TZID=America/Chicago:20260128T120000
DTSTAMP:20260421T103901
CREATED:20250901T175200Z
LAST-MODIFIED:20260127T020444Z
UID:10000799-1769594400-1769601600@www.txgrg.com
SUMMARY:Great Northwest Association Support Group
DESCRIPTION:TXGRG is dedicated to empowering grandparents through support\, resources\, and community. We believe in the strength that comes from shared experiences and the wisdom that each grandparent holds. Our mission is to create a nurturing and supportive environment where you can thrive. \n\n\n\nEmail Lupe Morin for additional information.
URL:https://www.txgrg.com/event/great-northwest-association-support-group/2026-01-28/
LOCATION:Great Northwest Support Group\, 8809 Timberwilde Drive\, San Antonio\, TX\, 78250\, United States
CATEGORIES:Great Northwest,Support Groups
END:VEVENT
BEGIN:VEVENT
DTSTART;TZID=America/Chicago:20260127T090000
DTEND;TZID=America/Chicago:20260127T100000
DTSTAMP:20260421T103901
CREATED:20250901T164341Z
LAST-MODIFIED:20250922T165836Z
UID:10000793-1769504400-1769508000@www.txgrg.com
SUMMARY:Salado Elementary Support Group
DESCRIPTION:TXGRG is dedicated to empowering grandparents through support\, resources\, and community. We believe in the strength that comes from shared experiences and the wisdom that each grandparent holds. Our mission is to create a nurturing and supportive environment where you can thrive. \n\n\n\nEmail Mary Hewtty for additional information.
URL:https://www.txgrg.com/event/salado-elementary-support-group-2/2026-01-27/
LOCATION:Salado Elementary Support Group\, 3602 WW White Rd\, San Antonio\, TX\, 78222\, United States
CATEGORIES:Salado Elementary,Support Groups
END:VEVENT
BEGIN:VEVENT
DTSTART;TZID=America/Chicago:20260126T130000
DTEND;TZID=America/Chicago:20260126T140000
DTSTAMP:20260421T103901
CREATED:20250901T192902Z
LAST-MODIFIED:20250901T193535Z
UID:10000783-1769432400-1769436000@www.txgrg.com
SUMMARY:DFW Virtual Support Group
DESCRIPTION:TXGRG is dedicated to empowering grandparents through support\, resources\, and community. We believe in the strength that comes from shared experiences and the wisdom that each grandparent holds. Our mission is to create a nurturing and supportive environment where you can thrive!  This virtual group services the DFW and North Texas Region. \n\n\n\nEmail Gail Mitchell for additional information.
URL:https://www.txgrg.com/event/dfw-virtual-support-group-2/2026-01-26/
LOCATION:TX
CATEGORIES:DFW Virtual,Support Groups
END:VEVENT
BEGIN:VEVENT
DTSTART;TZID=America/Chicago:20260122T100000
DTEND;TZID=America/Chicago:20260122T120000
DTSTAMP:20260421T103901
CREATED:20250901T161143Z
LAST-MODIFIED:20250901T165159Z
UID:10000499-1769076000-1769083200@www.txgrg.com
SUMMARY:Boerne Area Support Group
DESCRIPTION:TXGRG is dedicated to empowering grandparents through support\, resources\, and community. We believe in the strength that comes from shared experiences and the wisdom that each grandparent holds. Our mission is to create a nurturing and supportive environment where you can thrive. \n\n\n\nEmail Laura Cuellar for additional information.
URL:https://www.txgrg.com/event/boerne-area-support-group-2/2026-01-22/
LOCATION:Boerne Area Support Group\, 17 Old San Antonio Road\, Boerne\, TX\, 78006\, United States
CATEGORIES:Boerne Area,Support Groups
END:VEVENT
BEGIN:VEVENT
DTSTART;TZID=America/Chicago:20260121T100000
DTEND;TZID=America/Chicago:20260121T120000
DTSTAMP:20260421T103901
CREATED:20250901T183635Z
LAST-MODIFIED:20250901T183658Z
UID:10000689-1768989600-1768996800@www.txgrg.com
SUMMARY:Hidden Cove Elementary Support Group
DESCRIPTION:TXGRG is dedicated to empowering grandparents through support\, resources\, and community. We believe in the strength that comes from shared experiences and the wisdom that each grandparent holds. Our mission is to create a nurturing and supportive environment where you can thrive. \n\n\n\nEmail Laura Cuellar for additional information.
URL:https://www.txgrg.com/event/hidden-cove-elementary-support-group-4/2026-01-21/
LOCATION:Hidden Cove Support Group\, 5102 Trading Post Dr\, San Antonio\, TX\, 78242\, United States
CATEGORIES:Hidden Cove Elementary,Support Groups
END:VEVENT
BEGIN:VEVENT
DTSTART;TZID=America/Chicago:20260121T100000
DTEND;TZID=America/Chicago:20260121T120000
DTSTAMP:20260421T103901
CREATED:20250901T173555Z
LAST-MODIFIED:20250901T174253Z
UID:10000639-1768989600-1768996800@www.txgrg.com
SUMMARY:NISD Family Engagement Office Support Group
DESCRIPTION:TXGRG is dedicated to empowering grandparents through support\, resources\, and community. We believe in the strength that comes from shared experiences and the wisdom that each grandparent holds. Our mission is to create a nurturing and supportive environment where you can thrive. \n\n\n\nEmail Mary Hewtty for additional information.
URL:https://www.txgrg.com/event/nisd-family-engagement-office-support-group-2/2026-01-21/
LOCATION:Family Engagement Office Support Group\, 5223 Blessing St.\, San Antonio\, TX\, 78228\, United States
CATEGORIES:NISD Family Engagement,Support Groups
END:VEVENT
END:VCALENDAR