BEGIN:VCALENDAR
VERSION:2.0
PRODID:-//Texas Grandparents Raising Grandchildren - ECPv6.15.12.2//NONSGML v1.0//EN
CALSCALE:GREGORIAN
METHOD:PUBLISH
X-WR-CALNAME:Texas Grandparents Raising Grandchildren
X-ORIGINAL-URL:https://www.txgrg.com
X-WR-CALDESC:Events for Texas Grandparents Raising Grandchildren
REFRESH-INTERVAL;VALUE=DURATION:PT1H
X-Robots-Tag:noindex
X-PUBLISHED-TTL:PT1H
BEGIN:VTIMEZONE
TZID:America/Chicago
BEGIN:DAYLIGHT
TZOFFSETFROM:-0600
TZOFFSETTO:-0500
TZNAME:CDT
DTSTART:20250309T080000
END:DAYLIGHT
BEGIN:STANDARD
TZOFFSETFROM:-0500
TZOFFSETTO:-0600
TZNAME:CST
DTSTART:20251102T070000
END:STANDARD
BEGIN:DAYLIGHT
TZOFFSETFROM:-0600
TZOFFSETTO:-0500
TZNAME:CDT
DTSTART:20260308T080000
END:DAYLIGHT
BEGIN:STANDARD
TZOFFSETFROM:-0500
TZOFFSETTO:-0600
TZNAME:CST
DTSTART:20261101T070000
END:STANDARD
BEGIN:DAYLIGHT
TZOFFSETFROM:-0600
TZOFFSETTO:-0500
TZNAME:CDT
DTSTART:20270314T080000
END:DAYLIGHT
BEGIN:STANDARD
TZOFFSETFROM:-0500
TZOFFSETTO:-0600
TZNAME:CST
DTSTART:20271107T070000
END:STANDARD
BEGIN:DAYLIGHT
TZOFFSETFROM:-0600
TZOFFSETTO:-0500
TZNAME:CDT
DTSTART:20280312T080000
END:DAYLIGHT
BEGIN:STANDARD
TZOFFSETFROM:-0500
TZOFFSETTO:-0600
TZNAME:CST
DTSTART:20281105T070000
END:STANDARD
BEGIN:DAYLIGHT
TZOFFSETFROM:-0600
TZOFFSETTO:-0500
TZNAME:CDT
DTSTART:20290311T080000
END:DAYLIGHT
BEGIN:STANDARD
TZOFFSETFROM:-0500
TZOFFSETTO:-0600
TZNAME:CST
DTSTART:20291104T070000
END:STANDARD
END:VTIMEZONE
BEGIN:VEVENT
DTSTART;TZID=America/Chicago:20260423T100000
DTEND;TZID=America/Chicago:20260423T120000
DTSTAMP:20260422T063925
CREATED:20250901T161143Z
LAST-MODIFIED:20250901T165159Z
UID:10000502-1776938400-1776945600@www.txgrg.com
SUMMARY:Boerne Area Support Group
DESCRIPTION:TXGRG is dedicated to empowering grandparents through support\, resources\, and community. We believe in the strength that comes from shared experiences and the wisdom that each grandparent holds. Our mission is to create a nurturing and supportive environment where you can thrive. \n\n\n\nEmail Laura Cuellar for additional information.
URL:https://www.txgrg.com/event/boerne-area-support-group-2/2026-04-23/
LOCATION:Boerne Area Support Group\, 17 Old San Antonio Road\, Boerne\, TX\, 78006\, United States
CATEGORIES:Boerne Area,Support Groups
END:VEVENT
BEGIN:VEVENT
DTSTART;TZID=America/Chicago:20260528T100000
DTEND;TZID=America/Chicago:20260528T120000
DTSTAMP:20260422T063925
CREATED:20250901T161143Z
LAST-MODIFIED:20250901T165159Z
UID:10000503-1779962400-1779969600@www.txgrg.com
SUMMARY:Boerne Area Support Group
DESCRIPTION:TXGRG is dedicated to empowering grandparents through support\, resources\, and community. We believe in the strength that comes from shared experiences and the wisdom that each grandparent holds. Our mission is to create a nurturing and supportive environment where you can thrive. \n\n\n\nEmail Laura Cuellar for additional information.
URL:https://www.txgrg.com/event/boerne-area-support-group-2/2026-05-28/
LOCATION:Boerne Area Support Group\, 17 Old San Antonio Road\, Boerne\, TX\, 78006\, United States
CATEGORIES:Boerne Area,Support Groups
END:VEVENT
BEGIN:VEVENT
DTSTART;TZID=America/Chicago:20260625T100000
DTEND;TZID=America/Chicago:20260625T120000
DTSTAMP:20260422T063925
CREATED:20250901T161143Z
LAST-MODIFIED:20250901T165159Z
UID:10000504-1782381600-1782388800@www.txgrg.com
SUMMARY:Boerne Area Support Group
DESCRIPTION:TXGRG is dedicated to empowering grandparents through support\, resources\, and community. We believe in the strength that comes from shared experiences and the wisdom that each grandparent holds. Our mission is to create a nurturing and supportive environment where you can thrive. \n\n\n\nEmail Laura Cuellar for additional information.
URL:https://www.txgrg.com/event/boerne-area-support-group-2/2026-06-25/
LOCATION:Boerne Area Support Group\, 17 Old San Antonio Road\, Boerne\, TX\, 78006\, United States
CATEGORIES:Boerne Area,Support Groups
END:VEVENT
BEGIN:VEVENT
DTSTART;TZID=America/Chicago:20260723T100000
DTEND;TZID=America/Chicago:20260723T120000
DTSTAMP:20260422T063925
CREATED:20250901T161143Z
LAST-MODIFIED:20250901T165159Z
UID:10000505-1784800800-1784808000@www.txgrg.com
SUMMARY:Boerne Area Support Group
DESCRIPTION:TXGRG is dedicated to empowering grandparents through support\, resources\, and community. We believe in the strength that comes from shared experiences and the wisdom that each grandparent holds. Our mission is to create a nurturing and supportive environment where you can thrive. \n\n\n\nEmail Laura Cuellar for additional information.
URL:https://www.txgrg.com/event/boerne-area-support-group-2/2026-07-23/
LOCATION:Boerne Area Support Group\, 17 Old San Antonio Road\, Boerne\, TX\, 78006\, United States
CATEGORIES:Boerne Area,Support Groups
END:VEVENT
BEGIN:VEVENT
DTSTART;TZID=America/Chicago:20260827T100000
DTEND;TZID=America/Chicago:20260827T120000
DTSTAMP:20260422T063925
CREATED:20250901T161143Z
LAST-MODIFIED:20250901T165159Z
UID:10000506-1787824800-1787832000@www.txgrg.com
SUMMARY:Boerne Area Support Group
DESCRIPTION:TXGRG is dedicated to empowering grandparents through support\, resources\, and community. We believe in the strength that comes from shared experiences and the wisdom that each grandparent holds. Our mission is to create a nurturing and supportive environment where you can thrive. \n\n\n\nEmail Laura Cuellar for additional information.
URL:https://www.txgrg.com/event/boerne-area-support-group-2/2026-08-27/
LOCATION:Boerne Area Support Group\, 17 Old San Antonio Road\, Boerne\, TX\, 78006\, United States
CATEGORIES:Boerne Area,Support Groups
END:VEVENT
BEGIN:VEVENT
DTSTART;TZID=America/Chicago:20260924T100000
DTEND;TZID=America/Chicago:20260924T120000
DTSTAMP:20260422T063925
CREATED:20250901T161143Z
LAST-MODIFIED:20250901T165159Z
UID:10000507-1790244000-1790251200@www.txgrg.com
SUMMARY:Boerne Area Support Group
DESCRIPTION:TXGRG is dedicated to empowering grandparents through support\, resources\, and community. We believe in the strength that comes from shared experiences and the wisdom that each grandparent holds. Our mission is to create a nurturing and supportive environment where you can thrive. \n\n\n\nEmail Laura Cuellar for additional information.
URL:https://www.txgrg.com/event/boerne-area-support-group-2/2026-09-24/
LOCATION:Boerne Area Support Group\, 17 Old San Antonio Road\, Boerne\, TX\, 78006\, United States
CATEGORIES:Boerne Area,Support Groups
END:VEVENT
BEGIN:VEVENT
DTSTART;TZID=America/Chicago:20261022T100000
DTEND;TZID=America/Chicago:20261022T120000
DTSTAMP:20260422T063925
CREATED:20250901T161143Z
LAST-MODIFIED:20250901T165159Z
UID:10000508-1792663200-1792670400@www.txgrg.com
SUMMARY:Boerne Area Support Group
DESCRIPTION:TXGRG is dedicated to empowering grandparents through support\, resources\, and community. We believe in the strength that comes from shared experiences and the wisdom that each grandparent holds. Our mission is to create a nurturing and supportive environment where you can thrive. \n\n\n\nEmail Laura Cuellar for additional information.
URL:https://www.txgrg.com/event/boerne-area-support-group-2/2026-10-22/
LOCATION:Boerne Area Support Group\, 17 Old San Antonio Road\, Boerne\, TX\, 78006\, United States
CATEGORIES:Boerne Area,Support Groups
END:VEVENT
BEGIN:VEVENT
DTSTART;TZID=America/Chicago:20261126T100000
DTEND;TZID=America/Chicago:20261126T120000
DTSTAMP:20260422T063925
CREATED:20250901T161143Z
LAST-MODIFIED:20250901T165159Z
UID:10000509-1795687200-1795694400@www.txgrg.com
SUMMARY:Boerne Area Support Group
DESCRIPTION:TXGRG is dedicated to empowering grandparents through support\, resources\, and community. We believe in the strength that comes from shared experiences and the wisdom that each grandparent holds. Our mission is to create a nurturing and supportive environment where you can thrive. \n\n\n\nEmail Laura Cuellar for additional information.
URL:https://www.txgrg.com/event/boerne-area-support-group-2/2026-11-26/
LOCATION:Boerne Area Support Group\, 17 Old San Antonio Road\, Boerne\, TX\, 78006\, United States
CATEGORIES:Boerne Area,Support Groups
END:VEVENT
BEGIN:VEVENT
DTSTART;TZID=America/Chicago:20261224T100000
DTEND;TZID=America/Chicago:20261224T120000
DTSTAMP:20260422T063925
CREATED:20250901T161143Z
LAST-MODIFIED:20250901T165159Z
UID:10000510-1798106400-1798113600@www.txgrg.com
SUMMARY:Boerne Area Support Group
DESCRIPTION:TXGRG is dedicated to empowering grandparents through support\, resources\, and community. We believe in the strength that comes from shared experiences and the wisdom that each grandparent holds. Our mission is to create a nurturing and supportive environment where you can thrive. \n\n\n\nEmail Laura Cuellar for additional information.
URL:https://www.txgrg.com/event/boerne-area-support-group-2/2026-12-24/
LOCATION:Boerne Area Support Group\, 17 Old San Antonio Road\, Boerne\, TX\, 78006\, United States
CATEGORIES:Boerne Area,Support Groups
END:VEVENT
BEGIN:VEVENT
DTSTART;TZID=America/Chicago:20270128T100000
DTEND;TZID=America/Chicago:20270128T120000
DTSTAMP:20260422T063925
CREATED:20250901T161143Z
LAST-MODIFIED:20250901T165159Z
UID:10000511-1801130400-1801137600@www.txgrg.com
SUMMARY:Boerne Area Support Group
DESCRIPTION:TXGRG is dedicated to empowering grandparents through support\, resources\, and community. We believe in the strength that comes from shared experiences and the wisdom that each grandparent holds. Our mission is to create a nurturing and supportive environment where you can thrive. \n\n\n\nEmail Laura Cuellar for additional information.
URL:https://www.txgrg.com/event/boerne-area-support-group-2/2027-01-28/
LOCATION:Boerne Area Support Group\, 17 Old San Antonio Road\, Boerne\, TX\, 78006\, United States
CATEGORIES:Boerne Area,Support Groups
END:VEVENT
BEGIN:VEVENT
DTSTART;TZID=America/Chicago:20270225T100000
DTEND;TZID=America/Chicago:20270225T120000
DTSTAMP:20260422T063925
CREATED:20250901T161143Z
LAST-MODIFIED:20250901T165159Z
UID:10000512-1803549600-1803556800@www.txgrg.com
SUMMARY:Boerne Area Support Group
DESCRIPTION:TXGRG is dedicated to empowering grandparents through support\, resources\, and community. We believe in the strength that comes from shared experiences and the wisdom that each grandparent holds. Our mission is to create a nurturing and supportive environment where you can thrive. \n\n\n\nEmail Laura Cuellar for additional information.
URL:https://www.txgrg.com/event/boerne-area-support-group-2/2027-02-25/
LOCATION:Boerne Area Support Group\, 17 Old San Antonio Road\, Boerne\, TX\, 78006\, United States
CATEGORIES:Boerne Area,Support Groups
END:VEVENT
BEGIN:VEVENT
DTSTART;TZID=America/Chicago:20270325T100000
DTEND;TZID=America/Chicago:20270325T120000
DTSTAMP:20260422T063925
CREATED:20250901T161143Z
LAST-MODIFIED:20250901T165159Z
UID:10000513-1805968800-1805976000@www.txgrg.com
SUMMARY:Boerne Area Support Group
DESCRIPTION:TXGRG is dedicated to empowering grandparents through support\, resources\, and community. We believe in the strength that comes from shared experiences and the wisdom that each grandparent holds. Our mission is to create a nurturing and supportive environment where you can thrive. \n\n\n\nEmail Laura Cuellar for additional information.
URL:https://www.txgrg.com/event/boerne-area-support-group-2/2027-03-25/
LOCATION:Boerne Area Support Group\, 17 Old San Antonio Road\, Boerne\, TX\, 78006\, United States
CATEGORIES:Boerne Area,Support Groups
END:VEVENT
BEGIN:VEVENT
DTSTART;TZID=America/Chicago:20270422T100000
DTEND;TZID=America/Chicago:20270422T120000
DTSTAMP:20260422T063925
CREATED:20250901T161143Z
LAST-MODIFIED:20250901T165159Z
UID:10000514-1808388000-1808395200@www.txgrg.com
SUMMARY:Boerne Area Support Group
DESCRIPTION:TXGRG is dedicated to empowering grandparents through support\, resources\, and community. We believe in the strength that comes from shared experiences and the wisdom that each grandparent holds. Our mission is to create a nurturing and supportive environment where you can thrive. \n\n\n\nEmail Laura Cuellar for additional information.
URL:https://www.txgrg.com/event/boerne-area-support-group-2/2027-04-22/
LOCATION:Boerne Area Support Group\, 17 Old San Antonio Road\, Boerne\, TX\, 78006\, United States
CATEGORIES:Boerne Area,Support Groups
END:VEVENT
BEGIN:VEVENT
DTSTART;TZID=America/Chicago:20270527T100000
DTEND;TZID=America/Chicago:20270527T120000
DTSTAMP:20260422T063925
CREATED:20250901T161143Z
LAST-MODIFIED:20250901T165159Z
UID:10000515-1811412000-1811419200@www.txgrg.com
SUMMARY:Boerne Area Support Group
DESCRIPTION:TXGRG is dedicated to empowering grandparents through support\, resources\, and community. We believe in the strength that comes from shared experiences and the wisdom that each grandparent holds. Our mission is to create a nurturing and supportive environment where you can thrive. \n\n\n\nEmail Laura Cuellar for additional information.
URL:https://www.txgrg.com/event/boerne-area-support-group-2/2027-05-27/
LOCATION:Boerne Area Support Group\, 17 Old San Antonio Road\, Boerne\, TX\, 78006\, United States
CATEGORIES:Boerne Area,Support Groups
END:VEVENT
BEGIN:VEVENT
DTSTART;TZID=America/Chicago:20270624T100000
DTEND;TZID=America/Chicago:20270624T120000
DTSTAMP:20260422T063925
CREATED:20250901T161143Z
LAST-MODIFIED:20250901T165159Z
UID:10000516-1813831200-1813838400@www.txgrg.com
SUMMARY:Boerne Area Support Group
DESCRIPTION:TXGRG is dedicated to empowering grandparents through support\, resources\, and community. We believe in the strength that comes from shared experiences and the wisdom that each grandparent holds. Our mission is to create a nurturing and supportive environment where you can thrive. \n\n\n\nEmail Laura Cuellar for additional information.
URL:https://www.txgrg.com/event/boerne-area-support-group-2/2027-06-24/
LOCATION:Boerne Area Support Group\, 17 Old San Antonio Road\, Boerne\, TX\, 78006\, United States
CATEGORIES:Boerne Area,Support Groups
END:VEVENT
BEGIN:VEVENT
DTSTART;TZID=America/Chicago:20270722T100000
DTEND;TZID=America/Chicago:20270722T120000
DTSTAMP:20260422T063925
CREATED:20250901T161143Z
LAST-MODIFIED:20250901T165159Z
UID:10000517-1816250400-1816257600@www.txgrg.com
SUMMARY:Boerne Area Support Group
DESCRIPTION:TXGRG is dedicated to empowering grandparents through support\, resources\, and community. We believe in the strength that comes from shared experiences and the wisdom that each grandparent holds. Our mission is to create a nurturing and supportive environment where you can thrive. \n\n\n\nEmail Laura Cuellar for additional information.
URL:https://www.txgrg.com/event/boerne-area-support-group-2/2027-07-22/
LOCATION:Boerne Area Support Group\, 17 Old San Antonio Road\, Boerne\, TX\, 78006\, United States
CATEGORIES:Boerne Area,Support Groups
END:VEVENT
BEGIN:VEVENT
DTSTART;TZID=America/Chicago:20270826T100000
DTEND;TZID=America/Chicago:20270826T120000
DTSTAMP:20260422T063925
CREATED:20250901T161143Z
LAST-MODIFIED:20250901T165159Z
UID:10000518-1819274400-1819281600@www.txgrg.com
SUMMARY:Boerne Area Support Group
DESCRIPTION:TXGRG is dedicated to empowering grandparents through support\, resources\, and community. We believe in the strength that comes from shared experiences and the wisdom that each grandparent holds. Our mission is to create a nurturing and supportive environment where you can thrive. \n\n\n\nEmail Laura Cuellar for additional information.
URL:https://www.txgrg.com/event/boerne-area-support-group-2/2027-08-26/
LOCATION:Boerne Area Support Group\, 17 Old San Antonio Road\, Boerne\, TX\, 78006\, United States
CATEGORIES:Boerne Area,Support Groups
END:VEVENT
BEGIN:VEVENT
DTSTART;TZID=America/Chicago:20270923T100000
DTEND;TZID=America/Chicago:20270923T120000
DTSTAMP:20260422T063925
CREATED:20250901T161143Z
LAST-MODIFIED:20250901T165159Z
UID:10000519-1821693600-1821700800@www.txgrg.com
SUMMARY:Boerne Area Support Group
DESCRIPTION:TXGRG is dedicated to empowering grandparents through support\, resources\, and community. We believe in the strength that comes from shared experiences and the wisdom that each grandparent holds. Our mission is to create a nurturing and supportive environment where you can thrive. \n\n\n\nEmail Laura Cuellar for additional information.
URL:https://www.txgrg.com/event/boerne-area-support-group-2/2027-09-23/
LOCATION:Boerne Area Support Group\, 17 Old San Antonio Road\, Boerne\, TX\, 78006\, United States
CATEGORIES:Boerne Area,Support Groups
END:VEVENT
BEGIN:VEVENT
DTSTART;TZID=America/Chicago:20271028T100000
DTEND;TZID=America/Chicago:20271028T120000
DTSTAMP:20260422T063925
CREATED:20250901T161143Z
LAST-MODIFIED:20250901T165159Z
UID:10000520-1824717600-1824724800@www.txgrg.com
SUMMARY:Boerne Area Support Group
DESCRIPTION:TXGRG is dedicated to empowering grandparents through support\, resources\, and community. We believe in the strength that comes from shared experiences and the wisdom that each grandparent holds. Our mission is to create a nurturing and supportive environment where you can thrive. \n\n\n\nEmail Laura Cuellar for additional information.
URL:https://www.txgrg.com/event/boerne-area-support-group-2/2027-10-28/
LOCATION:Boerne Area Support Group\, 17 Old San Antonio Road\, Boerne\, TX\, 78006\, United States
CATEGORIES:Boerne Area,Support Groups
END:VEVENT
BEGIN:VEVENT
DTSTART;TZID=America/Chicago:20271125T100000
DTEND;TZID=America/Chicago:20271125T120000
DTSTAMP:20260422T063925
CREATED:20250901T161143Z
LAST-MODIFIED:20250901T165159Z
UID:10000521-1827136800-1827144000@www.txgrg.com
SUMMARY:Boerne Area Support Group
DESCRIPTION:TXGRG is dedicated to empowering grandparents through support\, resources\, and community. We believe in the strength that comes from shared experiences and the wisdom that each grandparent holds. Our mission is to create a nurturing and supportive environment where you can thrive. \n\n\n\nEmail Laura Cuellar for additional information.
URL:https://www.txgrg.com/event/boerne-area-support-group-2/2027-11-25/
LOCATION:Boerne Area Support Group\, 17 Old San Antonio Road\, Boerne\, TX\, 78006\, United States
CATEGORIES:Boerne Area,Support Groups
END:VEVENT
BEGIN:VEVENT
DTSTART;TZID=America/Chicago:20271223T100000
DTEND;TZID=America/Chicago:20271223T120000
DTSTAMP:20260422T063925
CREATED:20250901T161143Z
LAST-MODIFIED:20250901T165159Z
UID:10000522-1829556000-1829563200@www.txgrg.com
SUMMARY:Boerne Area Support Group
DESCRIPTION:TXGRG is dedicated to empowering grandparents through support\, resources\, and community. We believe in the strength that comes from shared experiences and the wisdom that each grandparent holds. Our mission is to create a nurturing and supportive environment where you can thrive. \n\n\n\nEmail Laura Cuellar for additional information.
URL:https://www.txgrg.com/event/boerne-area-support-group-2/2027-12-23/
LOCATION:Boerne Area Support Group\, 17 Old San Antonio Road\, Boerne\, TX\, 78006\, United States
CATEGORIES:Boerne Area,Support Groups
END:VEVENT
BEGIN:VEVENT
DTSTART;TZID=America/Chicago:20280127T100000
DTEND;TZID=America/Chicago:20280127T120000
DTSTAMP:20260422T063925
CREATED:20250901T161143Z
LAST-MODIFIED:20250901T165159Z
UID:10000523-1832580000-1832587200@www.txgrg.com
SUMMARY:Boerne Area Support Group
DESCRIPTION:TXGRG is dedicated to empowering grandparents through support\, resources\, and community. We believe in the strength that comes from shared experiences and the wisdom that each grandparent holds. Our mission is to create a nurturing and supportive environment where you can thrive. \n\n\n\nEmail Laura Cuellar for additional information.
URL:https://www.txgrg.com/event/boerne-area-support-group-2/2028-01-27/
LOCATION:Boerne Area Support Group\, 17 Old San Antonio Road\, Boerne\, TX\, 78006\, United States
CATEGORIES:Boerne Area,Support Groups
END:VEVENT
BEGIN:VEVENT
DTSTART;TZID=America/Chicago:20280224T100000
DTEND;TZID=America/Chicago:20280224T120000
DTSTAMP:20260422T063925
CREATED:20250901T161143Z
LAST-MODIFIED:20250901T165159Z
UID:10000524-1834999200-1835006400@www.txgrg.com
SUMMARY:Boerne Area Support Group
DESCRIPTION:TXGRG is dedicated to empowering grandparents through support\, resources\, and community. We believe in the strength that comes from shared experiences and the wisdom that each grandparent holds. Our mission is to create a nurturing and supportive environment where you can thrive. \n\n\n\nEmail Laura Cuellar for additional information.
URL:https://www.txgrg.com/event/boerne-area-support-group-2/2028-02-24/
LOCATION:Boerne Area Support Group\, 17 Old San Antonio Road\, Boerne\, TX\, 78006\, United States
CATEGORIES:Boerne Area,Support Groups
END:VEVENT
BEGIN:VEVENT
DTSTART;TZID=America/Chicago:20280323T100000
DTEND;TZID=America/Chicago:20280323T120000
DTSTAMP:20260422T063925
CREATED:20250901T161143Z
LAST-MODIFIED:20250901T165159Z
UID:10000525-1837418400-1837425600@www.txgrg.com
SUMMARY:Boerne Area Support Group
DESCRIPTION:TXGRG is dedicated to empowering grandparents through support\, resources\, and community. We believe in the strength that comes from shared experiences and the wisdom that each grandparent holds. Our mission is to create a nurturing and supportive environment where you can thrive. \n\n\n\nEmail Laura Cuellar for additional information.
URL:https://www.txgrg.com/event/boerne-area-support-group-2/2028-03-23/
LOCATION:Boerne Area Support Group\, 17 Old San Antonio Road\, Boerne\, TX\, 78006\, United States
CATEGORIES:Boerne Area,Support Groups
END:VEVENT
BEGIN:VEVENT
DTSTART;TZID=America/Chicago:20280427T100000
DTEND;TZID=America/Chicago:20280427T120000
DTSTAMP:20260422T063925
CREATED:20250901T161143Z
LAST-MODIFIED:20250901T165159Z
UID:10000526-1840442400-1840449600@www.txgrg.com
SUMMARY:Boerne Area Support Group
DESCRIPTION:TXGRG is dedicated to empowering grandparents through support\, resources\, and community. We believe in the strength that comes from shared experiences and the wisdom that each grandparent holds. Our mission is to create a nurturing and supportive environment where you can thrive. \n\n\n\nEmail Laura Cuellar for additional information.
URL:https://www.txgrg.com/event/boerne-area-support-group-2/2028-04-27/
LOCATION:Boerne Area Support Group\, 17 Old San Antonio Road\, Boerne\, TX\, 78006\, United States
CATEGORIES:Boerne Area,Support Groups
END:VEVENT
BEGIN:VEVENT
DTSTART;TZID=America/Chicago:20280525T100000
DTEND;TZID=America/Chicago:20280525T120000
DTSTAMP:20260422T063925
CREATED:20250901T161143Z
LAST-MODIFIED:20250901T165159Z
UID:10000527-1842861600-1842868800@www.txgrg.com
SUMMARY:Boerne Area Support Group
DESCRIPTION:TXGRG is dedicated to empowering grandparents through support\, resources\, and community. We believe in the strength that comes from shared experiences and the wisdom that each grandparent holds. Our mission is to create a nurturing and supportive environment where you can thrive. \n\n\n\nEmail Laura Cuellar for additional information.
URL:https://www.txgrg.com/event/boerne-area-support-group-2/2028-05-25/
LOCATION:Boerne Area Support Group\, 17 Old San Antonio Road\, Boerne\, TX\, 78006\, United States
CATEGORIES:Boerne Area,Support Groups
END:VEVENT
BEGIN:VEVENT
DTSTART;TZID=America/Chicago:20280622T100000
DTEND;TZID=America/Chicago:20280622T120000
DTSTAMP:20260422T063925
CREATED:20250901T161143Z
LAST-MODIFIED:20250901T165159Z
UID:10000528-1845280800-1845288000@www.txgrg.com
SUMMARY:Boerne Area Support Group
DESCRIPTION:TXGRG is dedicated to empowering grandparents through support\, resources\, and community. We believe in the strength that comes from shared experiences and the wisdom that each grandparent holds. Our mission is to create a nurturing and supportive environment where you can thrive. \n\n\n\nEmail Laura Cuellar for additional information.
URL:https://www.txgrg.com/event/boerne-area-support-group-2/2028-06-22/
LOCATION:Boerne Area Support Group\, 17 Old San Antonio Road\, Boerne\, TX\, 78006\, United States
CATEGORIES:Boerne Area,Support Groups
END:VEVENT
BEGIN:VEVENT
DTSTART;TZID=America/Chicago:20280727T100000
DTEND;TZID=America/Chicago:20280727T120000
DTSTAMP:20260422T063925
CREATED:20250901T161143Z
LAST-MODIFIED:20250901T165159Z
UID:10000529-1848304800-1848312000@www.txgrg.com
SUMMARY:Boerne Area Support Group
DESCRIPTION:TXGRG is dedicated to empowering grandparents through support\, resources\, and community. We believe in the strength that comes from shared experiences and the wisdom that each grandparent holds. Our mission is to create a nurturing and supportive environment where you can thrive. \n\n\n\nEmail Laura Cuellar for additional information.
URL:https://www.txgrg.com/event/boerne-area-support-group-2/2028-07-27/
LOCATION:Boerne Area Support Group\, 17 Old San Antonio Road\, Boerne\, TX\, 78006\, United States
CATEGORIES:Boerne Area,Support Groups
END:VEVENT
BEGIN:VEVENT
DTSTART;TZID=America/Chicago:20280824T100000
DTEND;TZID=America/Chicago:20280824T120000
DTSTAMP:20260422T063925
CREATED:20250901T161143Z
LAST-MODIFIED:20250901T165159Z
UID:10000530-1850724000-1850731200@www.txgrg.com
SUMMARY:Boerne Area Support Group
DESCRIPTION:TXGRG is dedicated to empowering grandparents through support\, resources\, and community. We believe in the strength that comes from shared experiences and the wisdom that each grandparent holds. Our mission is to create a nurturing and supportive environment where you can thrive. \n\n\n\nEmail Laura Cuellar for additional information.
URL:https://www.txgrg.com/event/boerne-area-support-group-2/2028-08-24/
LOCATION:Boerne Area Support Group\, 17 Old San Antonio Road\, Boerne\, TX\, 78006\, United States
CATEGORIES:Boerne Area,Support Groups
END:VEVENT
BEGIN:VEVENT
DTSTART;TZID=America/Chicago:20280928T100000
DTEND;TZID=America/Chicago:20280928T120000
DTSTAMP:20260422T063925
CREATED:20250901T161143Z
LAST-MODIFIED:20250901T165159Z
UID:10000531-1853748000-1853755200@www.txgrg.com
SUMMARY:Boerne Area Support Group
DESCRIPTION:TXGRG is dedicated to empowering grandparents through support\, resources\, and community. We believe in the strength that comes from shared experiences and the wisdom that each grandparent holds. Our mission is to create a nurturing and supportive environment where you can thrive. \n\n\n\nEmail Laura Cuellar for additional information.
URL:https://www.txgrg.com/event/boerne-area-support-group-2/2028-09-28/
LOCATION:Boerne Area Support Group\, 17 Old San Antonio Road\, Boerne\, TX\, 78006\, United States
CATEGORIES:Boerne Area,Support Groups
END:VEVENT
END:VCALENDAR