BEGIN:VCALENDAR
VERSION:2.0
PRODID:-//Texas Grandparents Raising Grandchildren - ECPv6.15.12.2//NONSGML v1.0//EN
CALSCALE:GREGORIAN
METHOD:PUBLISH
X-WR-CALNAME:Texas Grandparents Raising Grandchildren
X-ORIGINAL-URL:https://www.txgrg.com
X-WR-CALDESC:Events for Texas Grandparents Raising Grandchildren
REFRESH-INTERVAL;VALUE=DURATION:PT1H
X-Robots-Tag:noindex
X-PUBLISHED-TTL:PT1H
BEGIN:VTIMEZONE
TZID:America/Chicago
BEGIN:DAYLIGHT
TZOFFSETFROM:-0600
TZOFFSETTO:-0500
TZNAME:CDT
DTSTART:20260308T080000
END:DAYLIGHT
BEGIN:STANDARD
TZOFFSETFROM:-0500
TZOFFSETTO:-0600
TZNAME:CST
DTSTART:20261101T070000
END:STANDARD
BEGIN:DAYLIGHT
TZOFFSETFROM:-0600
TZOFFSETTO:-0500
TZNAME:CDT
DTSTART:20270314T080000
END:DAYLIGHT
BEGIN:STANDARD
TZOFFSETFROM:-0500
TZOFFSETTO:-0600
TZNAME:CST
DTSTART:20271107T070000
END:STANDARD
BEGIN:DAYLIGHT
TZOFFSETFROM:-0600
TZOFFSETTO:-0500
TZNAME:CDT
DTSTART:20280312T080000
END:DAYLIGHT
BEGIN:STANDARD
TZOFFSETFROM:-0500
TZOFFSETTO:-0600
TZNAME:CST
DTSTART:20281105T070000
END:STANDARD
BEGIN:DAYLIGHT
TZOFFSETFROM:-0600
TZOFFSETTO:-0500
TZNAME:CDT
DTSTART:20290311T080000
END:DAYLIGHT
BEGIN:STANDARD
TZOFFSETFROM:-0500
TZOFFSETTO:-0600
TZNAME:CST
DTSTART:20291104T070000
END:STANDARD
BEGIN:DAYLIGHT
TZOFFSETFROM:-0600
TZOFFSETTO:-0500
TZNAME:CDT
DTSTART:20300310T080000
END:DAYLIGHT
BEGIN:STANDARD
TZOFFSETFROM:-0500
TZOFFSETTO:-0600
TZNAME:CST
DTSTART:20301103T070000
END:STANDARD
END:VTIMEZONE
BEGIN:VEVENT
DTSTART;TZID=America/Chicago:20270216T180000
DTEND;TZID=America/Chicago:20270216T193000
DTSTAMP:20260419T182605
CREATED:20250508T150311Z
LAST-MODIFIED:20250901T181609Z
UID:10000449-1802800800-1802806200@www.txgrg.com
SUMMARY:Seguin Support Group
DESCRIPTION:TXGRG is dedicated to empowering grandparents through support\, resources\, and community. We believe in the strength that comes from shared experiences and the wisdom that each grandparent holds. Our mission is to create a nurturing and supportive environment where you can thrive.
URL:https://www.txgrg.com/event/seguin-support-group/2027-02-16/
LOCATION:Seguin Public Library\, 313 W Nolte St\, Seguin\, TX\, 78155\, United States
CATEGORIES:Seguin Area
END:VEVENT
BEGIN:VEVENT
DTSTART;TZID=America/Chicago:20270316T180000
DTEND;TZID=America/Chicago:20270316T193000
DTSTAMP:20260419T182605
CREATED:20250508T150311Z
LAST-MODIFIED:20250901T181609Z
UID:10000450-1805220000-1805225400@www.txgrg.com
SUMMARY:Seguin Support Group
DESCRIPTION:TXGRG is dedicated to empowering grandparents through support\, resources\, and community. We believe in the strength that comes from shared experiences and the wisdom that each grandparent holds. Our mission is to create a nurturing and supportive environment where you can thrive.
URL:https://www.txgrg.com/event/seguin-support-group/2027-03-16/
LOCATION:Seguin Public Library\, 313 W Nolte St\, Seguin\, TX\, 78155\, United States
CATEGORIES:Seguin Area
END:VEVENT
BEGIN:VEVENT
DTSTART;TZID=America/Chicago:20270420T180000
DTEND;TZID=America/Chicago:20270420T193000
DTSTAMP:20260419T182605
CREATED:20250508T150311Z
LAST-MODIFIED:20250901T181609Z
UID:10000451-1808244000-1808249400@www.txgrg.com
SUMMARY:Seguin Support Group
DESCRIPTION:TXGRG is dedicated to empowering grandparents through support\, resources\, and community. We believe in the strength that comes from shared experiences and the wisdom that each grandparent holds. Our mission is to create a nurturing and supportive environment where you can thrive.
URL:https://www.txgrg.com/event/seguin-support-group/2027-04-20/
LOCATION:Seguin Public Library\, 313 W Nolte St\, Seguin\, TX\, 78155\, United States
CATEGORIES:Seguin Area
END:VEVENT
BEGIN:VEVENT
DTSTART;TZID=America/Chicago:20270518T180000
DTEND;TZID=America/Chicago:20270518T193000
DTSTAMP:20260419T182605
CREATED:20250508T150311Z
LAST-MODIFIED:20250901T181609Z
UID:10000452-1810663200-1810668600@www.txgrg.com
SUMMARY:Seguin Support Group
DESCRIPTION:TXGRG is dedicated to empowering grandparents through support\, resources\, and community. We believe in the strength that comes from shared experiences and the wisdom that each grandparent holds. Our mission is to create a nurturing and supportive environment where you can thrive.
URL:https://www.txgrg.com/event/seguin-support-group/2027-05-18/
LOCATION:Seguin Public Library\, 313 W Nolte St\, Seguin\, TX\, 78155\, United States
CATEGORIES:Seguin Area
END:VEVENT
BEGIN:VEVENT
DTSTART;TZID=America/Chicago:20270615T180000
DTEND;TZID=America/Chicago:20270615T193000
DTSTAMP:20260419T182605
CREATED:20250508T150311Z
LAST-MODIFIED:20250901T181609Z
UID:10000453-1813082400-1813087800@www.txgrg.com
SUMMARY:Seguin Support Group
DESCRIPTION:TXGRG is dedicated to empowering grandparents through support\, resources\, and community. We believe in the strength that comes from shared experiences and the wisdom that each grandparent holds. Our mission is to create a nurturing and supportive environment where you can thrive.
URL:https://www.txgrg.com/event/seguin-support-group/2027-06-15/
LOCATION:Seguin Public Library\, 313 W Nolte St\, Seguin\, TX\, 78155\, United States
CATEGORIES:Seguin Area
END:VEVENT
BEGIN:VEVENT
DTSTART;TZID=America/Chicago:20270720T180000
DTEND;TZID=America/Chicago:20270720T193000
DTSTAMP:20260419T182605
CREATED:20250508T150311Z
LAST-MODIFIED:20250901T181609Z
UID:10000454-1816106400-1816111800@www.txgrg.com
SUMMARY:Seguin Support Group
DESCRIPTION:TXGRG is dedicated to empowering grandparents through support\, resources\, and community. We believe in the strength that comes from shared experiences and the wisdom that each grandparent holds. Our mission is to create a nurturing and supportive environment where you can thrive.
URL:https://www.txgrg.com/event/seguin-support-group/2027-07-20/
LOCATION:Seguin Public Library\, 313 W Nolte St\, Seguin\, TX\, 78155\, United States
CATEGORIES:Seguin Area
END:VEVENT
BEGIN:VEVENT
DTSTART;TZID=America/Chicago:20270817T180000
DTEND;TZID=America/Chicago:20270817T193000
DTSTAMP:20260419T182605
CREATED:20250508T150311Z
LAST-MODIFIED:20250901T181609Z
UID:10000455-1818525600-1818531000@www.txgrg.com
SUMMARY:Seguin Support Group
DESCRIPTION:TXGRG is dedicated to empowering grandparents through support\, resources\, and community. We believe in the strength that comes from shared experiences and the wisdom that each grandparent holds. Our mission is to create a nurturing and supportive environment where you can thrive.
URL:https://www.txgrg.com/event/seguin-support-group/2027-08-17/
LOCATION:Seguin Public Library\, 313 W Nolte St\, Seguin\, TX\, 78155\, United States
CATEGORIES:Seguin Area
END:VEVENT
BEGIN:VEVENT
DTSTART;TZID=America/Chicago:20270921T180000
DTEND;TZID=America/Chicago:20270921T193000
DTSTAMP:20260419T182605
CREATED:20250508T150311Z
LAST-MODIFIED:20250901T181609Z
UID:10000456-1821549600-1821555000@www.txgrg.com
SUMMARY:Seguin Support Group
DESCRIPTION:TXGRG is dedicated to empowering grandparents through support\, resources\, and community. We believe in the strength that comes from shared experiences and the wisdom that each grandparent holds. Our mission is to create a nurturing and supportive environment where you can thrive.
URL:https://www.txgrg.com/event/seguin-support-group/2027-09-21/
LOCATION:Seguin Public Library\, 313 W Nolte St\, Seguin\, TX\, 78155\, United States
CATEGORIES:Seguin Area
END:VEVENT
BEGIN:VEVENT
DTSTART;TZID=America/Chicago:20271019T180000
DTEND;TZID=America/Chicago:20271019T193000
DTSTAMP:20260419T182605
CREATED:20250508T150311Z
LAST-MODIFIED:20250901T181609Z
UID:10000457-1823968800-1823974200@www.txgrg.com
SUMMARY:Seguin Support Group
DESCRIPTION:TXGRG is dedicated to empowering grandparents through support\, resources\, and community. We believe in the strength that comes from shared experiences and the wisdom that each grandparent holds. Our mission is to create a nurturing and supportive environment where you can thrive.
URL:https://www.txgrg.com/event/seguin-support-group/2027-10-19/
LOCATION:Seguin Public Library\, 313 W Nolte St\, Seguin\, TX\, 78155\, United States
CATEGORIES:Seguin Area
END:VEVENT
BEGIN:VEVENT
DTSTART;TZID=America/Chicago:20271116T180000
DTEND;TZID=America/Chicago:20271116T193000
DTSTAMP:20260419T182605
CREATED:20250508T150311Z
LAST-MODIFIED:20250901T181609Z
UID:10000458-1826388000-1826393400@www.txgrg.com
SUMMARY:Seguin Support Group
DESCRIPTION:TXGRG is dedicated to empowering grandparents through support\, resources\, and community. We believe in the strength that comes from shared experiences and the wisdom that each grandparent holds. Our mission is to create a nurturing and supportive environment where you can thrive.
URL:https://www.txgrg.com/event/seguin-support-group/2027-11-16/
LOCATION:Seguin Public Library\, 313 W Nolte St\, Seguin\, TX\, 78155\, United States
CATEGORIES:Seguin Area
END:VEVENT
BEGIN:VEVENT
DTSTART;TZID=America/Chicago:20271221T180000
DTEND;TZID=America/Chicago:20271221T193000
DTSTAMP:20260419T182605
CREATED:20250508T150311Z
LAST-MODIFIED:20250901T181609Z
UID:10000459-1829412000-1829417400@www.txgrg.com
SUMMARY:Seguin Support Group
DESCRIPTION:TXGRG is dedicated to empowering grandparents through support\, resources\, and community. We believe in the strength that comes from shared experiences and the wisdom that each grandparent holds. Our mission is to create a nurturing and supportive environment where you can thrive.
URL:https://www.txgrg.com/event/seguin-support-group/2027-12-21/
LOCATION:Seguin Public Library\, 313 W Nolte St\, Seguin\, TX\, 78155\, United States
CATEGORIES:Seguin Area
END:VEVENT
BEGIN:VEVENT
DTSTART;TZID=America/Chicago:20280118T180000
DTEND;TZID=America/Chicago:20280118T193000
DTSTAMP:20260419T182605
CREATED:20250508T150311Z
LAST-MODIFIED:20250901T181609Z
UID:10000460-1831831200-1831836600@www.txgrg.com
SUMMARY:Seguin Support Group
DESCRIPTION:TXGRG is dedicated to empowering grandparents through support\, resources\, and community. We believe in the strength that comes from shared experiences and the wisdom that each grandparent holds. Our mission is to create a nurturing and supportive environment where you can thrive.
URL:https://www.txgrg.com/event/seguin-support-group/2028-01-18/
LOCATION:Seguin Public Library\, 313 W Nolte St\, Seguin\, TX\, 78155\, United States
CATEGORIES:Seguin Area
END:VEVENT
BEGIN:VEVENT
DTSTART;TZID=America/Chicago:20280215T180000
DTEND;TZID=America/Chicago:20280215T193000
DTSTAMP:20260419T182605
CREATED:20250508T150311Z
LAST-MODIFIED:20250901T181609Z
UID:10000461-1834250400-1834255800@www.txgrg.com
SUMMARY:Seguin Support Group
DESCRIPTION:TXGRG is dedicated to empowering grandparents through support\, resources\, and community. We believe in the strength that comes from shared experiences and the wisdom that each grandparent holds. Our mission is to create a nurturing and supportive environment where you can thrive.
URL:https://www.txgrg.com/event/seguin-support-group/2028-02-15/
LOCATION:Seguin Public Library\, 313 W Nolte St\, Seguin\, TX\, 78155\, United States
CATEGORIES:Seguin Area
END:VEVENT
BEGIN:VEVENT
DTSTART;TZID=America/Chicago:20280321T180000
DTEND;TZID=America/Chicago:20280321T193000
DTSTAMP:20260419T182605
CREATED:20250508T150311Z
LAST-MODIFIED:20250901T181609Z
UID:10000462-1837274400-1837279800@www.txgrg.com
SUMMARY:Seguin Support Group
DESCRIPTION:TXGRG is dedicated to empowering grandparents through support\, resources\, and community. We believe in the strength that comes from shared experiences and the wisdom that each grandparent holds. Our mission is to create a nurturing and supportive environment where you can thrive.
URL:https://www.txgrg.com/event/seguin-support-group/2028-03-21/
LOCATION:Seguin Public Library\, 313 W Nolte St\, Seguin\, TX\, 78155\, United States
CATEGORIES:Seguin Area
END:VEVENT
BEGIN:VEVENT
DTSTART;TZID=America/Chicago:20280418T180000
DTEND;TZID=America/Chicago:20280418T193000
DTSTAMP:20260419T182605
CREATED:20250508T150311Z
LAST-MODIFIED:20250901T181609Z
UID:10000463-1839693600-1839699000@www.txgrg.com
SUMMARY:Seguin Support Group
DESCRIPTION:TXGRG is dedicated to empowering grandparents through support\, resources\, and community. We believe in the strength that comes from shared experiences and the wisdom that each grandparent holds. Our mission is to create a nurturing and supportive environment where you can thrive.
URL:https://www.txgrg.com/event/seguin-support-group/2028-04-18/
LOCATION:Seguin Public Library\, 313 W Nolte St\, Seguin\, TX\, 78155\, United States
CATEGORIES:Seguin Area
END:VEVENT
BEGIN:VEVENT
DTSTART;TZID=America/Chicago:20280516T180000
DTEND;TZID=America/Chicago:20280516T193000
DTSTAMP:20260419T182605
CREATED:20250508T150311Z
LAST-MODIFIED:20250901T181609Z
UID:10000464-1842112800-1842118200@www.txgrg.com
SUMMARY:Seguin Support Group
DESCRIPTION:TXGRG is dedicated to empowering grandparents through support\, resources\, and community. We believe in the strength that comes from shared experiences and the wisdom that each grandparent holds. Our mission is to create a nurturing and supportive environment where you can thrive.
URL:https://www.txgrg.com/event/seguin-support-group/2028-05-16/
LOCATION:Seguin Public Library\, 313 W Nolte St\, Seguin\, TX\, 78155\, United States
CATEGORIES:Seguin Area
END:VEVENT
BEGIN:VEVENT
DTSTART;TZID=America/Chicago:20280620T180000
DTEND;TZID=America/Chicago:20280620T193000
DTSTAMP:20260419T182605
CREATED:20250508T150311Z
LAST-MODIFIED:20250901T181609Z
UID:10000465-1845136800-1845142200@www.txgrg.com
SUMMARY:Seguin Support Group
DESCRIPTION:TXGRG is dedicated to empowering grandparents through support\, resources\, and community. We believe in the strength that comes from shared experiences and the wisdom that each grandparent holds. Our mission is to create a nurturing and supportive environment where you can thrive.
URL:https://www.txgrg.com/event/seguin-support-group/2028-06-20/
LOCATION:Seguin Public Library\, 313 W Nolte St\, Seguin\, TX\, 78155\, United States
CATEGORIES:Seguin Area
END:VEVENT
BEGIN:VEVENT
DTSTART;TZID=America/Chicago:20280718T180000
DTEND;TZID=America/Chicago:20280718T193000
DTSTAMP:20260419T182605
CREATED:20250508T150311Z
LAST-MODIFIED:20250901T181609Z
UID:10000466-1847556000-1847561400@www.txgrg.com
SUMMARY:Seguin Support Group
DESCRIPTION:TXGRG is dedicated to empowering grandparents through support\, resources\, and community. We believe in the strength that comes from shared experiences and the wisdom that each grandparent holds. Our mission is to create a nurturing and supportive environment where you can thrive.
URL:https://www.txgrg.com/event/seguin-support-group/2028-07-18/
LOCATION:Seguin Public Library\, 313 W Nolte St\, Seguin\, TX\, 78155\, United States
CATEGORIES:Seguin Area
END:VEVENT
BEGIN:VEVENT
DTSTART;TZID=America/Chicago:20280815T180000
DTEND;TZID=America/Chicago:20280815T193000
DTSTAMP:20260419T182605
CREATED:20250508T150311Z
LAST-MODIFIED:20250901T181609Z
UID:10000467-1849975200-1849980600@www.txgrg.com
SUMMARY:Seguin Support Group
DESCRIPTION:TXGRG is dedicated to empowering grandparents through support\, resources\, and community. We believe in the strength that comes from shared experiences and the wisdom that each grandparent holds. Our mission is to create a nurturing and supportive environment where you can thrive.
URL:https://www.txgrg.com/event/seguin-support-group/2028-08-15/
LOCATION:Seguin Public Library\, 313 W Nolte St\, Seguin\, TX\, 78155\, United States
CATEGORIES:Seguin Area
END:VEVENT
BEGIN:VEVENT
DTSTART;TZID=America/Chicago:20280919T180000
DTEND;TZID=America/Chicago:20280919T193000
DTSTAMP:20260419T182605
CREATED:20250508T150311Z
LAST-MODIFIED:20250901T181609Z
UID:10000468-1852999200-1853004600@www.txgrg.com
SUMMARY:Seguin Support Group
DESCRIPTION:TXGRG is dedicated to empowering grandparents through support\, resources\, and community. We believe in the strength that comes from shared experiences and the wisdom that each grandparent holds. Our mission is to create a nurturing and supportive environment where you can thrive.
URL:https://www.txgrg.com/event/seguin-support-group/2028-09-19/
LOCATION:Seguin Public Library\, 313 W Nolte St\, Seguin\, TX\, 78155\, United States
CATEGORIES:Seguin Area
END:VEVENT
BEGIN:VEVENT
DTSTART;TZID=America/Chicago:20281017T180000
DTEND;TZID=America/Chicago:20281017T193000
DTSTAMP:20260419T182605
CREATED:20250508T150311Z
LAST-MODIFIED:20250901T181609Z
UID:10000469-1855418400-1855423800@www.txgrg.com
SUMMARY:Seguin Support Group
DESCRIPTION:TXGRG is dedicated to empowering grandparents through support\, resources\, and community. We believe in the strength that comes from shared experiences and the wisdom that each grandparent holds. Our mission is to create a nurturing and supportive environment where you can thrive.
URL:https://www.txgrg.com/event/seguin-support-group/2028-10-17/
LOCATION:Seguin Public Library\, 313 W Nolte St\, Seguin\, TX\, 78155\, United States
CATEGORIES:Seguin Area
END:VEVENT
BEGIN:VEVENT
DTSTART;TZID=America/Chicago:20281121T180000
DTEND;TZID=America/Chicago:20281121T193000
DTSTAMP:20260419T182605
CREATED:20250508T150311Z
LAST-MODIFIED:20250901T181609Z
UID:10000470-1858442400-1858447800@www.txgrg.com
SUMMARY:Seguin Support Group
DESCRIPTION:TXGRG is dedicated to empowering grandparents through support\, resources\, and community. We believe in the strength that comes from shared experiences and the wisdom that each grandparent holds. Our mission is to create a nurturing and supportive environment where you can thrive.
URL:https://www.txgrg.com/event/seguin-support-group/2028-11-21/
LOCATION:Seguin Public Library\, 313 W Nolte St\, Seguin\, TX\, 78155\, United States
CATEGORIES:Seguin Area
END:VEVENT
BEGIN:VEVENT
DTSTART;TZID=America/Chicago:20281219T180000
DTEND;TZID=America/Chicago:20281219T193000
DTSTAMP:20260419T182605
CREATED:20250508T150311Z
LAST-MODIFIED:20250901T181609Z
UID:10000471-1860861600-1860867000@www.txgrg.com
SUMMARY:Seguin Support Group
DESCRIPTION:TXGRG is dedicated to empowering grandparents through support\, resources\, and community. We believe in the strength that comes from shared experiences and the wisdom that each grandparent holds. Our mission is to create a nurturing and supportive environment where you can thrive.
URL:https://www.txgrg.com/event/seguin-support-group/2028-12-19/
LOCATION:Seguin Public Library\, 313 W Nolte St\, Seguin\, TX\, 78155\, United States
CATEGORIES:Seguin Area
END:VEVENT
BEGIN:VEVENT
DTSTART;TZID=America/Chicago:20290116T180000
DTEND;TZID=America/Chicago:20290116T193000
DTSTAMP:20260419T182605
CREATED:20250508T150311Z
LAST-MODIFIED:20250901T181609Z
UID:10000472-1863280800-1863286200@www.txgrg.com
SUMMARY:Seguin Support Group
DESCRIPTION:TXGRG is dedicated to empowering grandparents through support\, resources\, and community. We believe in the strength that comes from shared experiences and the wisdom that each grandparent holds. Our mission is to create a nurturing and supportive environment where you can thrive.
URL:https://www.txgrg.com/event/seguin-support-group/2029-01-16/
LOCATION:Seguin Public Library\, 313 W Nolte St\, Seguin\, TX\, 78155\, United States
CATEGORIES:Seguin Area
END:VEVENT
BEGIN:VEVENT
DTSTART;TZID=America/Chicago:20290220T180000
DTEND;TZID=America/Chicago:20290220T193000
DTSTAMP:20260419T182605
CREATED:20250508T150311Z
LAST-MODIFIED:20250901T181609Z
UID:10000473-1866304800-1866310200@www.txgrg.com
SUMMARY:Seguin Support Group
DESCRIPTION:TXGRG is dedicated to empowering grandparents through support\, resources\, and community. We believe in the strength that comes from shared experiences and the wisdom that each grandparent holds. Our mission is to create a nurturing and supportive environment where you can thrive.
URL:https://www.txgrg.com/event/seguin-support-group/2029-02-20/
LOCATION:Seguin Public Library\, 313 W Nolte St\, Seguin\, TX\, 78155\, United States
CATEGORIES:Seguin Area
END:VEVENT
BEGIN:VEVENT
DTSTART;TZID=America/Chicago:20290320T180000
DTEND;TZID=America/Chicago:20290320T193000
DTSTAMP:20260419T182605
CREATED:20250508T150311Z
LAST-MODIFIED:20250901T181609Z
UID:10000474-1868724000-1868729400@www.txgrg.com
SUMMARY:Seguin Support Group
DESCRIPTION:TXGRG is dedicated to empowering grandparents through support\, resources\, and community. We believe in the strength that comes from shared experiences and the wisdom that each grandparent holds. Our mission is to create a nurturing and supportive environment where you can thrive.
URL:https://www.txgrg.com/event/seguin-support-group/2029-03-20/
LOCATION:Seguin Public Library\, 313 W Nolte St\, Seguin\, TX\, 78155\, United States
CATEGORIES:Seguin Area
END:VEVENT
BEGIN:VEVENT
DTSTART;TZID=America/Chicago:20290417T180000
DTEND;TZID=America/Chicago:20290417T193000
DTSTAMP:20260419T182605
CREATED:20250508T150311Z
LAST-MODIFIED:20250901T181609Z
UID:10000475-1871143200-1871148600@www.txgrg.com
SUMMARY:Seguin Support Group
DESCRIPTION:TXGRG is dedicated to empowering grandparents through support\, resources\, and community. We believe in the strength that comes from shared experiences and the wisdom that each grandparent holds. Our mission is to create a nurturing and supportive environment where you can thrive.
URL:https://www.txgrg.com/event/seguin-support-group/2029-04-17/
LOCATION:Seguin Public Library\, 313 W Nolte St\, Seguin\, TX\, 78155\, United States
CATEGORIES:Seguin Area
END:VEVENT
BEGIN:VEVENT
DTSTART;TZID=America/Chicago:20290515T180000
DTEND;TZID=America/Chicago:20290515T193000
DTSTAMP:20260419T182605
CREATED:20250508T150311Z
LAST-MODIFIED:20250901T181609Z
UID:10000476-1873562400-1873567800@www.txgrg.com
SUMMARY:Seguin Support Group
DESCRIPTION:TXGRG is dedicated to empowering grandparents through support\, resources\, and community. We believe in the strength that comes from shared experiences and the wisdom that each grandparent holds. Our mission is to create a nurturing and supportive environment where you can thrive.
URL:https://www.txgrg.com/event/seguin-support-group/2029-05-15/
LOCATION:Seguin Public Library\, 313 W Nolte St\, Seguin\, TX\, 78155\, United States
CATEGORIES:Seguin Area
END:VEVENT
BEGIN:VEVENT
DTSTART;TZID=America/Chicago:20290619T180000
DTEND;TZID=America/Chicago:20290619T193000
DTSTAMP:20260419T182605
CREATED:20250508T150311Z
LAST-MODIFIED:20250901T181609Z
UID:10000477-1876586400-1876591800@www.txgrg.com
SUMMARY:Seguin Support Group
DESCRIPTION:TXGRG is dedicated to empowering grandparents through support\, resources\, and community. We believe in the strength that comes from shared experiences and the wisdom that each grandparent holds. Our mission is to create a nurturing and supportive environment where you can thrive.
URL:https://www.txgrg.com/event/seguin-support-group/2029-06-19/
LOCATION:Seguin Public Library\, 313 W Nolte St\, Seguin\, TX\, 78155\, United States
CATEGORIES:Seguin Area
END:VEVENT
BEGIN:VEVENT
DTSTART;TZID=America/Chicago:20290717T180000
DTEND;TZID=America/Chicago:20290717T193000
DTSTAMP:20260419T182605
CREATED:20250508T150311Z
LAST-MODIFIED:20250901T181609Z
UID:10000478-1879005600-1879011000@www.txgrg.com
SUMMARY:Seguin Support Group
DESCRIPTION:TXGRG is dedicated to empowering grandparents through support\, resources\, and community. We believe in the strength that comes from shared experiences and the wisdom that each grandparent holds. Our mission is to create a nurturing and supportive environment where you can thrive.
URL:https://www.txgrg.com/event/seguin-support-group/2029-07-17/
LOCATION:Seguin Public Library\, 313 W Nolte St\, Seguin\, TX\, 78155\, United States
CATEGORIES:Seguin Area
END:VEVENT
END:VCALENDAR